BEGIN:VCALENDAR
VERSION:2.0
PRODID:-//CRD - ECPv6.15.19//NONSGML v1.0//EN
CALSCALE:GREGORIAN
METHOD:PUBLISH
X-ORIGINAL-URL:https://calcivilrights.ca.gov
X-WR-CALDESC:Events for CRD
REFRESH-INTERVAL;VALUE=DURATION:PT1H
X-Robots-Tag:noindex
X-PUBLISHED-TTL:PT1H
BEGIN:VTIMEZONE
TZID:America/Los_Angeles
BEGIN:DAYLIGHT
TZOFFSETFROM:-0800
TZOFFSETTO:-0700
TZNAME:PDT
DTSTART:20240310T100000
END:DAYLIGHT
BEGIN:STANDARD
TZOFFSETFROM:-0700
TZOFFSETTO:-0800
TZNAME:PST
DTSTART:20241103T090000
END:STANDARD
BEGIN:DAYLIGHT
TZOFFSETFROM:-0800
TZOFFSETTO:-0700
TZNAME:PDT
DTSTART:20250309T100000
END:DAYLIGHT
BEGIN:STANDARD
TZOFFSETFROM:-0700
TZOFFSETTO:-0800
TZNAME:PST
DTSTART:20251102T090000
END:STANDARD
BEGIN:DAYLIGHT
TZOFFSETFROM:-0800
TZOFFSETTO:-0700
TZNAME:PDT
DTSTART:20260308T100000
END:DAYLIGHT
BEGIN:STANDARD
TZOFFSETFROM:-0700
TZOFFSETTO:-0800
TZNAME:PST
DTSTART:20261101T090000
END:STANDARD
BEGIN:DAYLIGHT
TZOFFSETFROM:-0800
TZOFFSETTO:-0700
TZNAME:PDT
DTSTART:20270314T100000
END:DAYLIGHT
BEGIN:STANDARD
TZOFFSETFROM:-0700
TZOFFSETTO:-0800
TZNAME:PST
DTSTART:20271107T090000
END:STANDARD
END:VTIMEZONE
BEGIN:VEVENT
DTSTART;TZID=America/Los_Angeles:20260220T090000
DTEND;TZID=America/Los_Angeles:20260220T130000
DTSTAMP:20260425T040609
CREATED:20260219T212039Z
LAST-MODIFIED:20260219T212039Z
UID:520805-1771578000-1771592400@calcivilrights.ca.gov
SUMMARY:Fresno's Roving Mexican Consulate - February 20\, 2026
DESCRIPTION:Website \nThe CRD is partnering with Fresno’s Mexican Consulate to provide the public with resources on civil rights in housing\, employment\, and public spaces.
URL:https://calcivilrights.ca.gov/event/fresnos-roving-mexican-consulate-february-20-2026/
LOCATION:7435 N Ingram Avenue\, 7435 N Ingram Avenue\, Fresno\, 93711\, United States
CATEGORIES:Community Service
END:VEVENT
BEGIN:VEVENT
DTSTART;TZID=America/Los_Angeles:20260213T080000
DTEND;TZID=America/Los_Angeles:20260213T170000
DTSTAMP:20260425T040609
CREATED:20251231T005546Z
LAST-MODIFIED:20251231T005546Z
UID:520248-1770969600-1771002000@calcivilrights.ca.gov
SUMMARY:Cafecito con la Comunidad - February 13\, 2026
DESCRIPTION:Website \nPresentations\, live discussion\, and indoor resource fair. This event is hosted by One Safe Place\, Mano a Mano Foundation\, and the Mexican Consulate. CRD will give a short presentation and table the event.
URL:https://calcivilrights.ca.gov/event/cafecito-con-la-comunidad-february-13-2026/
CATEGORIES:Community Event,Community Service
END:VEVENT
BEGIN:VEVENT
DTSTART;TZID=America/Los_Angeles:20260212T150000
DTEND;TZID=America/Los_Angeles:20260212T180000
DTSTAMP:20260425T040609
CREATED:20260202T202920Z
LAST-MODIFIED:20260202T202920Z
UID:520693-1770908400-1770919200@calcivilrights.ca.gov
SUMMARY:Seaside Certified Farmers' Market - February 12\, 2026
DESCRIPTION:Website \nA farmer’s market in Seaside on Thursday nights that has a wide range of vendors and community information and resources. CRD will be tabling at the market and sharing our resources.
URL:https://calcivilrights.ca.gov/event/seaside-certified-farmers-market-february-12-2026/
LOCATION:1259 Canyon Del Rey Blvd.\, 1259 Canyon Del Rey Blvd.\, Seaside\, CA\, 93955\, United States
CATEGORIES:Community Event,Community Service
END:VEVENT
BEGIN:VEVENT
DTSTART;TZID=America/Los_Angeles:20260210T083000
DTEND;TZID=America/Los_Angeles:20260211T143000
DTSTAMP:20260425T040609
CREATED:20260202T204535Z
LAST-MODIFIED:20260202T204535Z
UID:520696-1770712200-1770820200@calcivilrights.ca.gov
SUMMARY:Fresno's Roving Mexican Consulate – Mendota - February 10 - 11\, 2026
DESCRIPTION:Website \nCRD is partnering with Fresno’s Roving Mexican Consulate to provide the public with resources on civil rights in housing\, employment\, and public spaces. This roving Mexican Consulate will be in Mendota\, CA.
URL:https://calcivilrights.ca.gov/event/fresnos-roving-mexican-consulate-mendota-february-10-11-2026/
LOCATION:115 Belmont Avenue\, 115 Belmont Avenue\, Mendota\, CA\, 93640\, United States
CATEGORIES:Community Service
END:VEVENT
BEGIN:VEVENT
DTSTART;TZID=America/Los_Angeles:20260206T173000
DTEND;TZID=America/Los_Angeles:20260206T200000
DTSTAMP:20260425T040609
CREATED:20260127T204637Z
LAST-MODIFIED:20260127T204637Z
UID:520583-1770399000-1770408000@calcivilrights.ca.gov
SUMMARY:Carlsbad Hosted Happy Hour Networking Mixer - February 6\, 2026
DESCRIPTION:Website \nAn event hosted by Happy Hour Builders & Backers mixers. This event is open to everyone in all industries. Come meet people creating companies\, products\, tools\, and side projects – or are the people who help them go further — investors\, advisors\, partners\, collaborators\, and champions of new ideas. Partners are spotlighted before\, during\, and after the event through email\, social\, and onsite visibility. CRD will be present and sharing information about Welcome In\, department resources and more!
URL:https://calcivilrights.ca.gov/event/carlsbad-hosted-happy-hour-networking-mixer-february-6-2026/
LOCATION:Bermuda Club\, 5840 El Camino Real\, Carlsbad\, CA\, 92008\, United States
CATEGORIES:Community Event,Community Service
END:VEVENT
BEGIN:VEVENT
DTSTART;TZID=America/Los_Angeles:20260202T160000
DTEND;TZID=America/Los_Angeles:20260202T180000
DTSTAMP:20260425T040609
CREATED:20260127T204307Z
LAST-MODIFIED:20260127T204307Z
UID:520581-1770048000-1770055200@calcivilrights.ca.gov
SUMMARY:Women in Business Networking Event - February 2\, 2026
DESCRIPTION:Website \nJoin us for a networking event for women in business! The event will have sessions featuring a guest speaker that is an an expert in their field and will provide valuable insights on how to run your business more effectively\, financial preparation for success\, setting and achieving goals\, and more! CRD will be present and sharing out information about Welcome In\, department resources and more!
URL:https://calcivilrights.ca.gov/event/women-in-business-networking-event-february-2-2026/
CATEGORIES:Community Event,Community Service
END:VEVENT
BEGIN:VEVENT
DTSTART;TZID=America/Los_Angeles:20260131T110000
DTEND;TZID=America/Los_Angeles:20260131T140000
DTSTAMP:20260425T040609
CREATED:20260103T004256Z
LAST-MODIFIED:20260103T004256Z
UID:520260-1769857200-1769868000@calcivilrights.ca.gov
SUMMARY:Triple P Free Family Resource Fair - January 31\, 2026
DESCRIPTION:Website \nEvery year\, January is recognized as Positive Parenting Awareness Month in Santa Cruz County. The Triple P Program is hosting a family fair to provide resources to families in the community.
URL:https://calcivilrights.ca.gov/event/triple-p-free-family-resource-fair-january-31-2026/
LOCATION:705 Front Street\, 705 Front Street\, Santa Cruz\, CA\, 95060\, United States
CATEGORIES:Community Event,Community Service
END:VEVENT
BEGIN:VEVENT
DTSTART;TZID=America/Los_Angeles:20260130T093000
DTEND;TZID=America/Los_Angeles:20260130T123000
DTSTAMP:20260425T040609
CREATED:20260127T204150Z
LAST-MODIFIED:20260127T204150Z
UID:520577-1769765400-1769776200@calcivilrights.ca.gov
SUMMARY:San Diego Career Fair - January 30\, 2026
DESCRIPTION:Website \nThis career fair is a great recruitment event to connect with top employers in the areas of Government\, Sales\, Retail\, Education\, Information Technology\, Engineering\, Healthcare\, Financial Services\, Management\, Manufacturing\, Customer Service as well as other career paths. CRD staff will be there tabling and sharing out information about Welcome In\, department resources and more!
URL:https://calcivilrights.ca.gov/event/san-diego-career-fair-january-30-2026/
LOCATION:Doubletree by Hilton Hotel San Diego\, 1515 Hotel Cir S\, San Diego\, CA\, 92108\, United States
CATEGORIES:Community Event,Community Service
END:VEVENT
BEGIN:VEVENT
DTSTART;TZID=America/Los_Angeles:20260129T163000
DTEND;TZID=America/Los_Angeles:20260129T193000
DTSTAMP:20260425T040609
CREATED:20260127T202754Z
LAST-MODIFIED:20260127T202754Z
UID:520573-1769704200-1769715000@calcivilrights.ca.gov
SUMMARY:MICOP labor Law Clinic\, January 29\, 2026
DESCRIPTION:Website \nThe Rural Strategic Engagement (RSE) Program provides mobile\, “one-stop shop” clinics that offer farmworkers and rural residents direct access to state labor agencies and legal consultations. These clinics streamline the process for workers to file wage theft claims\, report safety violations\, and learn about their workplace protections. The California Civil Rights Department (CRD) will be there tabling to provide information on anti-discrimination laws and assist individuals in filing complaints related to workplace harassment or civil rights violations.
URL:https://calcivilrights.ca.gov/event/micop-labor-law-clinic-january-29-2026/
LOCATION:901 30th St\, 901 30th Street\, Paso Roblles\, CA\, 93446\, United States
CATEGORIES:Community Event,Community Service
END:VEVENT
BEGIN:VEVENT
DTSTART;TZID=America/Los_Angeles:20260125T090000
DTEND;TZID=America/Los_Angeles:20260125T150000
DTSTAMP:20260425T040609
CREATED:20260103T003407Z
LAST-MODIFIED:20260114T193805Z
UID:520258-1769331600-1769353200@calcivilrights.ca.gov
SUMMARY:Swap Meet for Justice - January 25\, 2026
DESCRIPTION:Website \nOne Sunday a month\, at the Oxnard College community marketplace\, we draw together attorneys\, mental and physical health providers\, community organizers\, nonprofits\, and county agencies to do their work on site and at no cost. We provide direct services\, referrals\, and essential information that would be hard to access during the M-F work week.
URL:https://calcivilrights.ca.gov/event/swap-meet-for-justice-january-25-2026/
CATEGORIES:Community Event,Community Service
END:VEVENT
BEGIN:VEVENT
DTSTART;TZID=America/Los_Angeles:20260124T110000
DTEND;TZID=America/Los_Angeles:20260124T140000
DTSTAMP:20260425T040609
CREATED:20260103T003211Z
LAST-MODIFIED:20260103T003211Z
UID:520255-1769252400-1769263200@calcivilrights.ca.gov
SUMMARY:Triple P Free Family Resource Fair - January 24\, 2026
DESCRIPTION:Website \nEvery year\, January is recognized as Positive Parenting Awareness Month in Santa Cruz County. The Triple P Program is hosting a family fair to provide resources to families in the community.
URL:https://calcivilrights.ca.gov/event/triple-p-free-family-resource-fair-january-24-2026/
LOCATION:705 Front Street\, 705 Front Street\, Santa Cruz\, CA\, 95060\, United States
CATEGORIES:Community Event,Community Service
END:VEVENT
BEGIN:VEVENT
DTSTART;TZID=America/Los_Angeles:20260121T080000
DTEND;TZID=America/Los_Angeles:20260121T170000
DTSTAMP:20260425T040609
CREATED:20260103T002946Z
LAST-MODIFIED:20260103T002946Z
UID:520253-1768982400-1769014800@calcivilrights.ca.gov
SUMMARY:Sacramento Mexican Consulate Resource Fair - January 21\, 2026
DESCRIPTION:Website \nCRD staffed informational table at the Mexican Consulate resource fair\, providing plain-language information on discrimination in work\, housing\, and businesses\, plus CA vs. Hate resources in English and Spanish.
URL:https://calcivilrights.ca.gov/event/sacramento-mexican-consulate-resource-fair-january-21-2026/
CATEGORIES:Community Service
END:VEVENT
BEGIN:VEVENT
DTSTART;TZID=America/Los_Angeles:20260118T090000
DTEND;TZID=America/Los_Angeles:20260118T150000
DTSTAMP:20260425T040609
CREATED:20260103T002309Z
LAST-MODIFIED:20260103T002309Z
UID:520250-1768726800-1768748400@calcivilrights.ca.gov
SUMMARY:MLK Harmony Health Festival - January 18\, 2026
DESCRIPTION:Website \nThe Harmony Health Fest incorporates harmony\, health\, and wellness alongside the celebration of Martin Luther King Jr.’s legacy. We want to emphasize the importance of physical and mental well-being within the community while honoring the principles of unity\, equality\, and social justice championed by Dr. King. The festival may include vendors and exhibitors who feature activities\, workshops\, and resources dedicated to promoting a healthy lifestyle\, such as fitness demonstrations\, health screenings\, mental health awareness sessions\, healthy food options and more.
URL:https://calcivilrights.ca.gov/event/mlk-harmony-health-festival-january-18-2026/
LOCATION:Waterfront Park\, 1600 Pacific Highway\, San Diego\, CA\, 92101\, United States
CATEGORIES:Community Event,Community Service
END:VEVENT
BEGIN:VEVENT
DTSTART;TZID=America/Los_Angeles:20260109T080000
DTEND;TZID=America/Los_Angeles:20260109T170000
DTSTAMP:20260425T040609
CREATED:20251230T233116Z
LAST-MODIFIED:20251230T233116Z
UID:520237-1767945600-1767978000@calcivilrights.ca.gov
SUMMARY:Clínica Legal Sobre Derechos de Trabajadores de Campo - January 9\, 2026
DESCRIPTION:Website \nDIR Rural Strategic Engagement (RSE) Labor Rights Clinic – Hosted by the Department of Industrial Relations (DIR)\, RSE is a project created to address farmworkers’ barriers to access information about their workplace rights and protections. This particular clinic will feature a presentation by California Rural Legal Assistance (CRLA) and will give all the attending state agencies and community-based organizations the opportunity to interface directly with farmworkers in need of resources about their rights and protections.
URL:https://calcivilrights.ca.gov/event/clinica-legal-sobre-derechos-de-trabajadores-de-campo-january-9-2026/
CATEGORIES:Community Event,Community Service
END:VEVENT
BEGIN:VEVENT
DTSTART;TZID=America/Los_Angeles:20251218T130000
DTEND;TZID=America/Los_Angeles:20251218T150000
DTSTAMP:20260425T040609
CREATED:20251217T174120Z
LAST-MODIFIED:20251217T174120Z
UID:520167-1766062800-1766070000@calcivilrights.ca.gov
SUMMARY:Multicultural BizFest 2025 - December 18\, 2025
DESCRIPTION:Website \nThis event is for supporting entrepreneurs\, small businesses\, and nonprofits and providing them with access to legal resources\, compliance guidance\, and business development information. Attendees will hear from representatives of Inland Counties Legal Services\, CRD\, the Microenterprise Collaborative\, and the office of Assemblymember Jose Medina. CRD staff will be presenting information to the community and local businesses about the Welcome In program.
URL:https://calcivilrights.ca.gov/event/multicultural-bizfest-2025-december-18-2025/
LOCATION:Civil Rights Institute – Inland Southern California\, 3933 Mission Blvd.\, Suite 103\, Riverside\, CA\, 92501\, United States
CATEGORIES:Community Event,Community Service
END:VEVENT
BEGIN:VEVENT
DTSTART;TZID=America/Los_Angeles:20251217T090000
DTEND;TZID=America/Los_Angeles:20251217T130000
DTSTAMP:20260425T040609
CREATED:20251217T173835Z
LAST-MODIFIED:20251217T173835Z
UID:520164-1765962000-1765976400@calcivilrights.ca.gov
SUMMARY:Sacramento Mexican Consulate: Feria de Recursos - Conoce Tus Derechos - December 17\, 2025
DESCRIPTION:Website \nMexican Consulate Resource Fairs are community events offering free services like legal aid\, health screenings\, financial advice\, and educational opportunities (college info\, job support) for Mexican nationals and the broader community. CRD will be present and sharing our civil rights guides and resources.
URL:https://calcivilrights.ca.gov/event/sacramento-mexican-consulate-feria-de-recursos-conoce-tus-derechos-december-17-2025/
LOCATION:Mexican Consulate – Sacramento\, 2093 Arena Blvd\, Sacramento\, CA\, 95834\, United States
CATEGORIES:Community Event,Community Service
END:VEVENT
BEGIN:VEVENT
DTSTART;TZID=America/Los_Angeles:20251210T090000
DTEND;TZID=America/Los_Angeles:20251210T130000
DTSTAMP:20260425T040609
CREATED:20251113T192315Z
LAST-MODIFIED:20251113T192358Z
UID:519844-1765357200-1765371600@calcivilrights.ca.gov
SUMMARY:Bakersfield Farmworker Appreciation Day and Resource Fair - December 10\, 2025
DESCRIPTION:Website \nJoin us in Bakersfield as we honor the invaluable contributions of farmworkers. This day celebrates the heart of our agricultural workforce with access to community resources\, support services\, and advocacy for farmworker rights and safety. CRD will be there to table and provide the community with our civil rights guides and resources.
URL:https://calcivilrights.ca.gov/event/bakersfield-farmworker-appreciation-day-and-resource-fair-december-10-2025/
LOCATION:Kern Agricultural Pavilion\, 3300 E. Belle Terrace\, Baskersfield\, CA\, 93307\, United States
CATEGORIES:Community Event,Community Service
END:VEVENT
BEGIN:VEVENT
DTSTART;TZID=America/Los_Angeles:20251205T010000
DTEND;TZID=America/Los_Angeles:20251205T050000
DTSTAMP:20260425T040609
CREATED:20251126T192734Z
LAST-MODIFIED:20251126T192734Z
UID:519999-1764896400-1764910800@calcivilrights.ca.gov
SUMMARY:46th Annual Farmworker Appreciation Breakfast - December 5\, 2025
DESCRIPTION:Website \nThe 46th Annual Farmworker Appreciation Breakfast hosted by the California Employment Development Department in Calexico\, CA. This event is held yearly to provide to provide critical resources about the services available to farmworkers in the State of California. Representatives from State agencies and Imperial Valley CBO’s will serve approximately 3\,000 farmworkers breakfast as an appreciation for their labor.
URL:https://calcivilrights.ca.gov/event/46th-annual-farmworker-appreciation-breakfast-december-5-2025/
CATEGORIES:Community Event,Community Service
END:VEVENT
BEGIN:VEVENT
DTSTART;TZID=America/Los_Angeles:20251122T080000
DTEND;TZID=America/Los_Angeles:20251122T170000
DTSTAMP:20260425T040609
CREATED:20251119T011438Z
LAST-MODIFIED:20251119T011438Z
UID:519905-1763798400-1763830800@calcivilrights.ca.gov
SUMMARY:Clínica de Derechos Laborales - November 22\, 2025
DESCRIPTION:Website \nDIR Rural Strategic Engagement Labor Rights Clinic that will be hosted by Lideres Campesinas. This clinic will offer legal support and direct communication with government agencies for farmworkers.
URL:https://calcivilrights.ca.gov/event/clinica-de-derechos-laborales-november-22-2025/
LOCATION:175 Walnut Street\, 175 Walnut Street\, Woodland\, CA\, 95695\, United States
CATEGORIES:Community Event,Community Service
END:VEVENT
BEGIN:VEVENT
DTSTART;TZID=America/Los_Angeles:20251121T080000
DTEND;TZID=America/Los_Angeles:20251121T170000
DTSTAMP:20260425T040609
CREATED:20251119T011056Z
LAST-MODIFIED:20251119T011056Z
UID:519903-1763712000-1763744400@calcivilrights.ca.gov
SUMMARY:Clínica Legal Sobre Derechos de Trabajadores de Campo - November 21\, 2025
DESCRIPTION:Website \nDIR Rural Strategic Engagement (RSE) Labor Rights Clinic. Hosted by the Department of Industrial Relations (DIR)\, RSE is a project created to address farmworkers’ barriers to access information about their workplace rights and protections. This particular clinic will feature a presentation by California Rural Legal Assistance (CRLA) and will give all the attending state agencies and community-based organizations the opportunity to interface directly with farmworkers in need of resources about their rights and protections.
URL:https://calcivilrights.ca.gov/event/clinica-legal-sobre-derechos-de-trabajadores-de-campo-november-21-2025/
CATEGORIES:Community Service
END:VEVENT
BEGIN:VEVENT
DTSTART;TZID=America/Los_Angeles:20251120T180000
DTEND;TZID=America/Los_Angeles:20251120T200000
DTSTAMP:20260425T040609
CREATED:20251113T192111Z
LAST-MODIFIED:20251113T192111Z
UID:519839-1763661600-1763668800@calcivilrights.ca.gov
SUMMARY:Bakersfield Anti-Hate Forum - November 20\, 2025
DESCRIPTION:Website \nThis forum is being hosted by Bakersfield local non-profits (Pride Year-Round\, PFLAG\, Dolores Huerta Foundation\, and the Center for Gender and Sexual Diversity) in conjunction with Bakersfield Police Department. It will include panels on (1) Community Led Responses to Hate; and (2) information and resources in the aftermath of a hate incident\, including safe reporting\, restorative justice testimonies from community members. CRD’s Community Conflict Resolution Unit (CCRU) will represent CRD and CA vs. Hate by tabling and presenting as a panelist.
URL:https://calcivilrights.ca.gov/event/bakersfield-anti-hate-forum-november-20-2025/
LOCATION:Larry E Reiner Building\, 2000 K Street\, Bakersfield\, CA\, 93301\, United States
CATEGORIES:Community Event,Community Service
END:VEVENT
BEGIN:VEVENT
DTSTART;TZID=America/Los_Angeles:20251114T090000
DTEND;TZID=America/Los_Angeles:20251114T140000
DTSTAMP:20260425T040609
CREATED:20251105T220103Z
LAST-MODIFIED:20251105T220859Z
UID:519760-1763110800-1763128800@calcivilrights.ca.gov
SUMMARY:San Joaquin Veteran Stand Down - November 14\, 2025
DESCRIPTION:Website \nJoin us for a day dedicated to providing resources and support for our veterans\, including unhoused veterans and their families. This resource fair aims to connect you with essential services\, health care\, housing assistance\, employment opportunities\, and more.
URL:https://calcivilrights.ca.gov/event/sanjoaquin-veteran-stand-down-november-14-2025/
LOCATION:Richard A. Pittman VA Clinic\, 6505 South Manthey Road\, French Camp\, CA\, 95231\, United States
CATEGORIES:Community Event,Community Service
END:VEVENT
BEGIN:VEVENT
DTSTART;TZID=America/Los_Angeles:20251110T170000
DTEND;TZID=America/Los_Angeles:20251110T200000
DTSTAMP:20260425T040609
CREATED:20251104T210609Z
LAST-MODIFIED:20251104T210609Z
UID:519749-1762794000-1762804800@calcivilrights.ca.gov
SUMMARY:Pathways to Success: Career Fair hosted by Sacramento State - November 10\, 2025
DESCRIPTION:Website \n\nTime: 5pm-8pm\nDescription: Hosted by the Women in Business at Sac State\, the event is an opportunity to connect undergraduate students\, graduate students\, and alumni with professionals across diverse industries. An HR representative from CRD will be present and providing information to attendees about working at CRD and for the State of California.
URL:https://calcivilrights.ca.gov/event/pathways-to-success-career-fair-hosted-by-sacramento-state-november-10-2025/
LOCATION:6000 J street\, 6000 J Street\, Sacramento\, CA\, 95819\, United States
CATEGORIES:Community Event,Community Service
END:VEVENT
BEGIN:VEVENT
DTSTART;TZID=America/Los_Angeles:20251107T010000
DTEND;TZID=America/Los_Angeles:20251107T040000
DTSTAMP:20260425T040609
CREATED:20251104T203502Z
LAST-MODIFIED:20251104T203502Z
UID:519736-1762477200-1762488000@calcivilrights.ca.gov
SUMMARY:Desayuno Para Trabajadores del Campo - November 7\, 2025
DESCRIPTION:Hosted by the Public Health arm of the Mexican Consulate (Ventanilla de Salud)\, this event is an opportunity for farmworkers in the area to receive important resources about rights and protections\, as well as vital services\, from state agencies\, community-based organization\, and the Mexican Consulate. CRD will be present and providing our civil rights guides and resources.
URL:https://calcivilrights.ca.gov/event/desayuno-para-trabajadores-del-campo-november-7-2025/
LOCATION:408 Heber Avenue\, 408 Heber avenue\, Calexico\, CA\, 92231\, United States
CATEGORIES:Community Event,Community Service
END:VEVENT
BEGIN:VEVENT
DTSTART;TZID=America/Los_Angeles:20251106T100000
DTEND;TZID=America/Los_Angeles:20251106T160000
DTSTAMP:20260425T040609
CREATED:20251105T215004Z
LAST-MODIFIED:20251105T215004Z
UID:519755-1762423200-1762444800@calcivilrights.ca.gov
SUMMARY:Santa Clara County’s Veteran Stand Down - November 6\, 2025
DESCRIPTION:Website \nThe Santa Clara County’s Veteran Stand Down is an opportunity to connect veterans\, surviving spouses\, dependents\, and caregivers with services\, support groups\, community partners\, and educational resources.
URL:https://calcivilrights.ca.gov/event/santa-clara-countys-veteran-stand-down-november-6-2025/
LOCATION:Santa Clara County Fairgrounds Pavillion\, 344 Tully Road\, San Jose\, CA\, 95111\, United States
CATEGORIES:Community Event,Community Service
END:VEVENT
BEGIN:VEVENT
DTSTART;TZID=America/Los_Angeles:20251106T090000
DTEND;TZID=America/Los_Angeles:20251106T110000
DTSTAMP:20260425T040609
CREATED:20251029T230725Z
LAST-MODIFIED:20251029T230725Z
UID:519712-1762419600-1762426800@calcivilrights.ca.gov
SUMMARY:City of Carson Senior Resource Fair - November 6\, 2025
DESCRIPTION:Website \nThe city of Carson is hosting a resource fair for seniors at the Carson Event Center. CRD will be tabling and providing the attendees with civil rights guides and resources.
URL:https://calcivilrights.ca.gov/event/city-of-carson-senior-resource-fair-november-6-2025/
CATEGORIES:Community Event,Community Service
END:VEVENT
BEGIN:VEVENT
DTSTART;TZID=America/Los_Angeles:20251105T100000
DTEND;TZID=America/Los_Angeles:20251105T150000
DTSTAMP:20260425T040609
CREATED:20251104T205652Z
LAST-MODIFIED:20251104T205845Z
UID:519745-1762336800-1762354800@calcivilrights.ca.gov
SUMMARY:San Francisco Restorative Justice Re-entry Conference Resource Fair - November 5\, 2025
DESCRIPTION:Website \n\nTime: 10am-3pm\nDescription: Annual Reentry Conference and Resource Fair held in San Francisco. This resource fair provides information and resources to individuals a part of the reentry population. CRD will be tabling and sharing our civil rights guides and resources.
URL:https://calcivilrights.ca.gov/event/san-francisco-restorative-justice-re-entry-conference-resource-fair-november-5-2025/
LOCATION:Saint Mary’s Cathedral Event Center\, 1111 Gough Street\, San Francisco\, CA\, 94109\, United States
CATEGORIES:Community Event,Community Service
END:VEVENT
BEGIN:VEVENT
DTSTART;TZID=America/Los_Angeles:20251104T080000
DTEND;TZID=America/Los_Angeles:20251104T170000
DTSTAMP:20260425T040609
CREATED:20251103T204716Z
LAST-MODIFIED:20251103T204716Z
UID:519734-1762243200-1762275600@calcivilrights.ca.gov
SUMMARY:DIR Rural Strategic Engagement (RSE) Labor Rights Clinic - November 4\, 2025
DESCRIPTION:Website \nHosted by the Department of Industrial Relations (DIR)\, RSE is a project created to address farmworkers’ barriers to access information about their workplace rights and protections. This particular clinic will feature a presentation by California Rural Legal Assistance (CRLA) and will give all the attending state agencies and community-based organizations the opportunity to interface directly with farmworkers in need of resources about their rights and protections.
URL:https://calcivilrights.ca.gov/event/dir-rural-strategic-engagement-rse-labor-rights-clinic-november-4-2025/
CATEGORIES:Community Service
END:VEVENT
BEGIN:VEVENT
DTSTART;TZID=America/Los_Angeles:20251025T090000
DTEND;TZID=America/Los_Angeles:20251025T130000
DTSTAMP:20260425T040609
CREATED:20251015T002647Z
LAST-MODIFIED:20251015T002647Z
UID:519593-1761382800-1761397200@calcivilrights.ca.gov
SUMMARY:Santa Barbara County Veterans' Stand Down - October 25\, 2025
DESCRIPTION:Website \nSanta Barbara County is holding a veterans’ stand down resource fair. CRD will be tabling and providing our civil rights guides and resources.
URL:https://calcivilrights.ca.gov/event/santa-barbara-county-veterans-stand-down-october-25-2025/
LOCATION:Santa Maria Fairpark\, 937 South Thornburg Street\, Santa Maria\, CA\, 93458\, United States
CATEGORIES:Community Event,Community Service
END:VEVENT
BEGIN:VEVENT
DTSTART;TZID=America/Los_Angeles:20251023T080000
DTEND;TZID=America/Los_Angeles:20251023T170000
DTSTAMP:20260425T040609
CREATED:20251015T001522Z
LAST-MODIFIED:20251015T001522Z
UID:519591-1761206400-1761238800@calcivilrights.ca.gov
SUMMARY:Assemblymember Arambula's Community Health and Fall Resource Fairs - October 23\, 2025
DESCRIPTION:Website \nA free Community Health and Resource Fair where attendees can get access to free health screenings\, connect with local service providers\, nonprofits\, government agencies\, and learn about resources available to them. CRD will be tabling and providing the community with our civil rights guides and resources.
URL:https://calcivilrights.ca.gov/event/assemblymember-arambulas-community-health-and-fall-resource-fairs-october-23-2025/
CATEGORIES:Community Service
END:VEVENT
END:VCALENDAR