BEGIN:VCALENDAR
VERSION:2.0
PRODID:-//CRD - ECPv6.15.19//NONSGML v1.0//EN
CALSCALE:GREGORIAN
METHOD:PUBLISH
X-ORIGINAL-URL:https://calcivilrights.ca.gov
X-WR-CALDESC:Events for CRD
REFRESH-INTERVAL;VALUE=DURATION:PT1H
X-Robots-Tag:noindex
X-PUBLISHED-TTL:PT1H
BEGIN:VTIMEZONE
TZID:America/Los_Angeles
BEGIN:DAYLIGHT
TZOFFSETFROM:-0800
TZOFFSETTO:-0700
TZNAME:PDT
DTSTART:20250309T100000
END:DAYLIGHT
BEGIN:STANDARD
TZOFFSETFROM:-0700
TZOFFSETTO:-0800
TZNAME:PST
DTSTART:20251102T090000
END:STANDARD
BEGIN:DAYLIGHT
TZOFFSETFROM:-0800
TZOFFSETTO:-0700
TZNAME:PDT
DTSTART:20260308T100000
END:DAYLIGHT
BEGIN:STANDARD
TZOFFSETFROM:-0700
TZOFFSETTO:-0800
TZNAME:PST
DTSTART:20261101T090000
END:STANDARD
BEGIN:DAYLIGHT
TZOFFSETFROM:-0800
TZOFFSETTO:-0700
TZNAME:PDT
DTSTART:20270314T100000
END:DAYLIGHT
BEGIN:STANDARD
TZOFFSETFROM:-0700
TZOFFSETTO:-0800
TZNAME:PST
DTSTART:20271107T090000
END:STANDARD
END:VTIMEZONE
BEGIN:VEVENT
DTSTART;TZID=America/Los_Angeles:20260610T110000
DTEND;TZID=America/Los_Angeles:20260610T120000
DTSTAMP:20260419T114140
CREATED:20260306T234636Z
LAST-MODIFIED:20260306T234636Z
UID:520993-1781089200-1781092800@calcivilrights.ca.gov
SUMMARY:CRD Webinar – California Protections for People who are LGBTQ+ - June 10\, 2026
DESCRIPTION:Website \nThis training will address the California-specific rights of people who are LGBTQ+ in employment\, housing\, businesses\, public places\, by recipients of state funding\, and related to hate violence.   \nOur discussion will include name changes and pronouns\, clothing / uniforms\, bathrooms\, and healthcare services.  \nThis webinar is intended for all audiences and addresses housing discrimination laws enforced by the California Civil Rights Department.
URL:https://calcivilrights.ca.gov/event/crd-webinar-california-protections-for-people-who-are-lgbtq-june-10-2026/
CATEGORIES:CRD Webinar Series,Webinar
END:VEVENT
BEGIN:VEVENT
DTSTART;TZID=America/Los_Angeles:20260617T110000
DTEND;TZID=America/Los_Angeles:20260617T120000
DTSTAMP:20260419T114140
CREATED:20260219T010521Z
LAST-MODIFIED:20260225T182415Z
UID:520794-1781694000-1781697600@calcivilrights.ca.gov
SUMMARY:CRD Webinar - Housing Discrimination Basics - June 17\, 2026
DESCRIPTION:Register for the Webinar \nAre you a tenant and want to learn more about your rights? Are you a housing provider and want to understand your responsibilities related to discrimination and harassment? \nLearn about basic fair housing concepts\, including protections for people with disabilities\, people who use Section 8 Vouchers\, and people with criminal histories. \nThis webinar is intended for all audiences and addresses housing discrimination laws enforced by the California Civil Rights Department.
URL:https://calcivilrights.ca.gov/event/crd-webinar-housing-discrimination-basics-june-17-2026/
CATEGORIES:CRD Webinar Series,Housing Training,Webinar
END:VEVENT
BEGIN:VEVENT
DTSTART;TZID=America/Los_Angeles:20260625T110000
DTEND;TZID=America/Los_Angeles:20260625T120000
DTSTAMP:20260419T114140
CREATED:20260413T184758Z
LAST-MODIFIED:20260413T184758Z
UID:521185-1782385200-1782388800@calcivilrights.ca.gov
SUMMARY:CRD and DRE # 3: Fair Housing Basics for Property Managers - June 25\, 2026
DESCRIPTION:Registration Link \nAddresses basic housing concepts including discrimination\, harassment\, and protections relating to people with disabilities\, sources of income (like a Section 8 Housing Choice Voucher)\, and people with criminal histories. Targeted toward property managers.
URL:https://calcivilrights.ca.gov/event/crd-and-dre-3-fair-housing-basics-for-property-managers-june-25-2026/
CATEGORIES:CRD Webinar Series,DRE Series,Webinar
END:VEVENT
END:VCALENDAR