BEGIN:VCALENDAR
VERSION:2.0
PRODID:-//CRD - ECPv6.15.19//NONSGML v1.0//EN
CALSCALE:GREGORIAN
METHOD:PUBLISH
X-WR-CALNAME:CRD
X-ORIGINAL-URL:https://calcivilrights.ca.gov
X-WR-CALDESC:Events for CRD
REFRESH-INTERVAL;VALUE=DURATION:PT1H
X-Robots-Tag:noindex
X-PUBLISHED-TTL:PT1H
BEGIN:VTIMEZONE
TZID:America/Los_Angeles
BEGIN:DAYLIGHT
TZOFFSETFROM:-0800
TZOFFSETTO:-0700
TZNAME:PDT
DTSTART:20250309T100000
END:DAYLIGHT
BEGIN:STANDARD
TZOFFSETFROM:-0700
TZOFFSETTO:-0800
TZNAME:PST
DTSTART:20251102T090000
END:STANDARD
BEGIN:DAYLIGHT
TZOFFSETFROM:-0800
TZOFFSETTO:-0700
TZNAME:PDT
DTSTART:20260308T100000
END:DAYLIGHT
BEGIN:STANDARD
TZOFFSETFROM:-0700
TZOFFSETTO:-0800
TZNAME:PST
DTSTART:20261101T090000
END:STANDARD
BEGIN:DAYLIGHT
TZOFFSETFROM:-0800
TZOFFSETTO:-0700
TZNAME:PDT
DTSTART:20270314T100000
END:DAYLIGHT
BEGIN:STANDARD
TZOFFSETFROM:-0700
TZOFFSETTO:-0800
TZNAME:PST
DTSTART:20271107T090000
END:STANDARD
END:VTIMEZONE
BEGIN:VEVENT
DTSTART;TZID=America/Los_Angeles:20260419T120000
DTEND;TZID=America/Los_Angeles:20260419T180000
DTSTAMP:20260421T111322
CREATED:20260415T230659Z
LAST-MODIFIED:20260415T230659Z
UID:521200-1776600000-1776621600@calcivilrights.ca.gov
SUMMARY:Standing Together Against Antisemitism: A Community Summit - April 19\, 2026
DESCRIPTION:Website \nThis community-wide event is an opportunity to learn how to recognize and respond to antisemitism\, combat problematic narratives\, and collaborate to shape a new future for the San Diego community.
URL:https://calcivilrights.ca.gov/event/standing-together-against-antisemitism-a-community-summit-april-19-2026/
LOCATION:CA
CATEGORIES:Community Event
END:VEVENT
BEGIN:VEVENT
DTSTART;TZID=America/Los_Angeles:20260418T190000
DTEND;TZID=America/Los_Angeles:20260418T210000
DTSTAMP:20260421T111322
CREATED:20260415T224736Z
LAST-MODIFIED:20260415T224805Z
UID:521198-1776538800-1776546000@calcivilrights.ca.gov
SUMMARY:Oakland Roots Game: Women’s Empowerment Night - April 18\, 2026
DESCRIPTION:Website \nThe Oakland Roots Soccer team will be celebrating women’s empowerment at the April 18th game. CRD will be there providing resources about CA vs. Hate.
URL:https://calcivilrights.ca.gov/event/oakland-roots-game-womens-empowerment-night-april-18-2026/
LOCATION:CA
CATEGORIES:Community Event
END:VEVENT
BEGIN:VEVENT
DTSTART;TZID=America/Los_Angeles:20260415T110000
DTEND;TZID=America/Los_Angeles:20260415T120000
DTSTAMP:20260421T111322
CREATED:20260219T005912Z
LAST-MODIFIED:20260219T010112Z
UID:520785-1776250800-1776254400@calcivilrights.ca.gov
SUMMARY:CRD Webinar - Housing Discrimination Basics - April 15\, 2026
DESCRIPTION:Register for the Webinar \nAre you a tenant and want to learn more about your rights? Are you a housing provider and want to understand your responsibilities related to discrimination and harassment? \nLearn about basic fair housing concepts\, including protections for people with disabilities\, people who use Section 8 Vouchers\, and people with criminal histories. \nThis webinar is intended for all audiences and addresses housing discrimination laws enforced by the California Civil Rights Department.
URL:https://calcivilrights.ca.gov/event/housing-discrimination-basics-april-15-2026/
LOCATION:CA
CATEGORIES:CRD Webinar Series,Housing Training,Webinar
END:VEVENT
BEGIN:VEVENT
DTSTART;TZID=America/Los_Angeles:20260409T150000
DTEND;TZID=America/Los_Angeles:20260409T180000
DTSTAMP:20260421T111322
CREATED:20260323T212112Z
LAST-MODIFIED:20260323T212112Z
UID:521076-1775746800-1775757600@calcivilrights.ca.gov
SUMMARY:CSU Los Angeles: Second Chance In Action: Education\, Policy\, Possibility - April 9\, 2026
DESCRIPTION:Website \nJoin CSU Los Angeles for the 3rd Annual Prison Graduation Initiative (PGI) Convening during Second Chance Month—a day of celebration\, connection\, and community impact. Connect with vendors\, reentry resources\, experience films centered on the incarcerated journey and join for a legislative panel on reform and second chances\, culminating in the world premiere of “The People in Blue.” CRD will be present and tabling the event\, sharing out our civil rights guides and resources.
URL:https://calcivilrights.ca.gov/event/csu-los-angeles-second-chance-in-action-education-policy-possibility-april-9-2026/
LOCATION:CSU Los Angeles Campus\, 5151 State University Drive\, Los Angeles\, CA\, 90032\, United States
CATEGORIES:Community Event,Community Service
END:VEVENT
BEGIN:VEVENT
DTSTART;TZID=America/Los_Angeles:20260409T150000
DTEND;TZID=America/Los_Angeles:20260409T180000
DTSTAMP:20260421T111322
CREATED:20260306T175405Z
LAST-MODIFIED:20260306T175405Z
UID:520968-1775746800-1775757600@calcivilrights.ca.gov
SUMMARY:Seaside Certified Farmers' Market -April 9\, 2026
DESCRIPTION:Website \nA farmer’s market in Seaside on Thursday nights that has a wide range of vendors and community information and resources. CRD will be tabling at the market and sharing our resources.
URL:https://calcivilrights.ca.gov/event/seaside-certified-farmers-market-april-9-2026/
LOCATION:1259 Canyon Del Rey Blvd.\, 1259 Canyon Del Rey Blvd.\, Seaside\, CA\, 93955\, United States
CATEGORIES:Community Event,Community Service
END:VEVENT
BEGIN:VEVENT
DTSTART;TZID=America/Los_Angeles:20260408T110000
DTEND;TZID=America/Los_Angeles:20260408T120000
DTSTAMP:20260421T111322
CREATED:20260306T233748Z
LAST-MODIFIED:20260306T234957Z
UID:520990-1775646000-1775649600@calcivilrights.ca.gov
SUMMARY:CRD Webinar - Housing Rights for People with Criminal Histories - April 8\, 2026
DESCRIPTION:Website \nAre you a tenant with a conviction history and want to understand your rights?  Are you a housing provider and want to understand your responsibilities when it comes to running criminal history checks for potential tenants?  \nThis webinar will cover legal protections for people with conviction histories including criminal history that can/cannot be considered and other protections related to using a criminal background check to screen tenants.   \nThis webinar is intended for all audiences and addresses housing discrimination laws enforced by the California Civil Rights Department. 
URL:https://calcivilrights.ca.gov/event/crd-webinar-housing-rights-for-people-with-criminal-histories-april-8-2026/
LOCATION:CA
CATEGORIES:CRD Webinar Series,Employment Training,Webinar
END:VEVENT
BEGIN:VEVENT
DTSTART;TZID=America/Los_Angeles:20260406T150000
DTEND;TZID=America/Los_Angeles:20260406T180000
DTSTAMP:20260421T111322
CREATED:20260306T180311Z
LAST-MODIFIED:20260306T181734Z
UID:520972-1775487600-1775498400@calcivilrights.ca.gov
SUMMARY:Pacific Grove Certified Farmers Market - April 6\, 2026
DESCRIPTION:Website \nPacific Grove Farmers’ Market \nA farmer’s market in Pacific Grove on Monday nights that has a wide range of vendors and community information and resources. CRD will be tabling at the market and sharing our resources.
URL:https://calcivilrights.ca.gov/event/pacific-grove-certified-farmers-market-april-6-2026/
LOCATION:Pacific Grove Farmers’ Market\, Central Avenue & Grand Avenue\, Pacific Grove\, CA\, 93950\, United States
CATEGORIES:Community Event,Community Service
END:VEVENT
BEGIN:VEVENT
DTSTART;TZID=America/Los_Angeles:20260329T090000
DTEND;TZID=America/Los_Angeles:20260329T150000
DTSTAMP:20260421T111322
CREATED:20260311T184339Z
LAST-MODIFIED:20260311T184339Z
UID:521035-1774774800-1774796400@calcivilrights.ca.gov
SUMMARY:Swap Meet for Justice - March 29\, 2026
DESCRIPTION:Website \nOne Sunday a month\, at the Oxnard College community marketplace\, we draw together attorneys\, mental and physical health providers\, community organizers\, nonprofits\, and county agencies to do their work on site and at no cost. We provide direct services\, referrals\, and essential information that would be hard to access during the M-F work week.
URL:https://calcivilrights.ca.gov/event/swap-meet-for-justice-march-29-2026/
LOCATION:Oxnard College\, 4000 S Rose Avenue\, Oxnard\, CA\, 93033\, United States
CATEGORIES:Community Event,Community Service
END:VEVENT
BEGIN:VEVENT
DTSTART;TZID=America/Los_Angeles:20260320T150000
DTEND;TZID=America/Los_Angeles:20260320T190000
DTSTAMP:20260421T111322
CREATED:20260311T184213Z
LAST-MODIFIED:20260311T184213Z
UID:521030-1774018800-1774033200@calcivilrights.ca.gov
SUMMARY:La Mesa Village Farmers' Market - March 20\, 2026
DESCRIPTION:Website \nA farmer’s market in La Mesa on Friday nights that has a wide range of vendors and community information and resources. CRD will be tabling at the market and sharing our resources.
URL:https://calcivilrights.ca.gov/event/la-mesa-village-farmers-market-march-20-2026/
LOCATION:8300 La Mesa Blvd.\, 8300 La Mesa Blvd.\, La Mesa\, CA\, 91942\, United States
CATEGORIES:Community Event
END:VEVENT
BEGIN:VEVENT
DTSTART;TZID=America/Los_Angeles:20260318T120000
DTEND;TZID=America/Los_Angeles:20260318T130000
DTSTAMP:20260421T111322
CREATED:20260311T183529Z
LAST-MODIFIED:20260311T183529Z
UID:521026-1773835200-1773838800@calcivilrights.ca.gov
SUMMARY:Stop The Hate Resource Fair - March 18\, 2026
DESCRIPTION:Website \nCRD is attending the conference resource fair to connect with community members and network with other attending organizations committed to the civil rights of California residence.
URL:https://calcivilrights.ca.gov/event/stop-the-hate-resource-fair-march-18-2026/
LOCATION:Chapman University\, 1 University Drive\, Orange\, CA\, 92866\, United States
CATEGORIES:Community Event
END:VEVENT
BEGIN:VEVENT
DTSTART;TZID=America/Los_Angeles:20260318T110000
DTEND;TZID=America/Los_Angeles:20260318T120000
DTSTAMP:20260421T111322
CREATED:20251204T192350Z
LAST-MODIFIED:20251230T173421Z
UID:520059-1773831600-1773835200@calcivilrights.ca.gov
SUMMARY:CRD Webinar - Employment Basics - March 18\, 2026
DESCRIPTION:Register \nDo you want to learn about your civil rights at work? Are you an employer or service provider who needs a basic refresher on employment discrimination laws in California? Learn about discrimination\, harassment\, and retaliation\, and receive an overview of protections for people with criminal histories and people with disabilities. This webinar is intended for all audiences and addresses employment discrimination laws enforced by the California Civil Rights Department.
URL:https://calcivilrights.ca.gov/event/crd-webinar-employment-basics-march-18-2026/
LOCATION:CA
CATEGORIES:CRD Webinar Series,Employment Training,Webinar
END:VEVENT
BEGIN:VEVENT
DTSTART;TZID=America/Los_Angeles:20260314T170000
DTEND;TZID=America/Los_Angeles:20260314T210000
DTSTAMP:20260421T111322
CREATED:20260311T174720Z
LAST-MODIFIED:20260311T181821Z
UID:521018-1773507600-1773522000@calcivilrights.ca.gov
SUMMARY:Oakland Roots Game - March 14\, 2026
DESCRIPTION:Website \nOakland Roots soccer match\, where the CRD will have a resource table where attendees can learn about the department’s resources.
URL:https://calcivilrights.ca.gov/event/oakland-roots-game-african-roots-night-march-14-2026/
LOCATION:1220 Harbor Bay Pkwy\, 1220 Harbor Bay Pkwy\, Alameda\, 94502\, United States
CATEGORIES:Community Event
END:VEVENT
BEGIN:VEVENT
DTSTART;TZID=America/Los_Angeles:20260312T113000
DTEND;TZID=America/Los_Angeles:20260312T120000
DTSTAMP:20260421T111322
CREATED:20260311T174304Z
LAST-MODIFIED:20260311T174304Z
UID:521015-1773315000-1773316800@calcivilrights.ca.gov
SUMMARY:2026 Tribal Affairs/California Indian Assistance Program Tribal Outreach & Information Workshop - March 12\, 2026
DESCRIPTION:The Civil Rights Department (CRD) will participate in the 2026 CIAP Tribal Outreach & Informational Workshops to provide guidance on anti-discrimination protections in housing and employment. These sessions aim to empower Tribal communities by detailing the free legal resources and conflict resolution services available through the state.
URL:https://calcivilrights.ca.gov/event/2026-tribal-affairs-california-indian-assistance-program-tribal-outreach-information-workshop-march-12-2026/
LOCATION:Black Oak Casino Resort\, 19400 Tuolumne Road North\, Tuolumne\, CA\, 95379\, United States
CATEGORIES:Community Event,Community Service
END:VEVENT
BEGIN:VEVENT
DTSTART;TZID=America/Los_Angeles:20260311T110000
DTEND;TZID=America/Los_Angeles:20260311T120000
DTSTAMP:20260421T111322
CREATED:20251204T192141Z
LAST-MODIFIED:20251230T173534Z
UID:520057-1773226800-1773230400@calcivilrights.ca.gov
SUMMARY:CRD Webinar - AI Employment Regulations - March 11\, 2026
DESCRIPTION:Register \nDid you know California recently passed regulations governing the use of artificial intelligence in employment decisions?   \nWhether you’re an employer\, human resources professional\, or job seeker\, learn more about the law and best practices around automated decision systems\, including information on bias testing and recordkeeping requirements. This webinar is intended for audiences with a moderate understanding of employment discrimination laws enforced by the California Civil Rights Department.
URL:https://calcivilrights.ca.gov/event/ai-employment-regulations-march-11-2026/
LOCATION:CA
CATEGORIES:CRD Webinar Series,Employment Training,Webinar
END:VEVENT
BEGIN:VEVENT
DTSTART;TZID=America/Los_Angeles:20260310T100000
DTEND;TZID=America/Los_Angeles:20260310T133000
DTSTAMP:20260421T111322
CREATED:20260306T190659Z
LAST-MODIFIED:20260306T190659Z
UID:520988-1773136800-1773149400@calcivilrights.ca.gov
SUMMARY:Student Resource Fair at Santa Monica College - March 10\, 2026
DESCRIPTION:Website \nThe Basic Needs Department at Santa Monica College is hosting a resource fair to help connect students directly to community and on-campus resources\, related to housing\, health support\, mental health support\, technology\, childcare\, food\, and civil rights.
URL:https://calcivilrights.ca.gov/event/student-resource-fair-at-santa-monica-college-march-10-2026/
LOCATION:CA
CATEGORIES:Community Event,Community Service
END:VEVENT
BEGIN:VEVENT
DTSTART;TZID=America/Los_Angeles:20260307T090000
DTEND;TZID=America/Los_Angeles:20260307T130000
DTSTAMP:20260421T111322
CREATED:20260306T183226Z
LAST-MODIFIED:20260306T190230Z
UID:520981-1772874000-1772888400@calcivilrights.ca.gov
SUMMARY:Feria de Recursos con Motivo del Día Internacional de la Mujer (Fresno) - March 7\, 2026
DESCRIPTION:Website \nThe Civil Rights Department will provide information and tools in a comprehensive and transversal manner to Mexican migrant girls\, adolescents\, and women\, especially those in vulnerable situations\, such as those facing domestic or gender-based violence.
URL:https://calcivilrights.ca.gov/event/feria-de-recursos-con-motivo-del-dia-internacional-de-la-mujer-fresno-march-7-2026/
LOCATION:7435 N Ingram Avenue\, 7435 N Ingram Avenue\, Fresno\, 93711\, United States
CATEGORIES:Community Event,Community Service
END:VEVENT
BEGIN:VEVENT
DTSTART;TZID=America/Los_Angeles:20260307T080000
DTEND;TZID=America/Los_Angeles:20260307T170000
DTSTAMP:20260421T111322
CREATED:20260306T190401Z
LAST-MODIFIED:20260306T190401Z
UID:520985-1772870400-1772902800@calcivilrights.ca.gov
SUMMARY:Feria de Recursos con Motivo del Día Internacional de la Mujer (Sacramento) - March 7\, 2026
DESCRIPTION:Website \nThe Civil Rights Department will provide information and tools in a comprehensive and transversal manner to Mexican migrant girls\, adolescents\, and women\, especially those in vulnerable situations\, such as those facing domestic or gender-based violence.
URL:https://calcivilrights.ca.gov/event/feria-de-recursos-con-motivo-del-dia-internacional-de-la-mujer-sacramento-march-7-2026/
LOCATION:2093 Arena Blvd.\, 2093 Arena Blvd.\, Sacramento\, CA\, 95834\, United States
CATEGORIES:Community Event,Community Service
END:VEVENT
BEGIN:VEVENT
DTSTART;TZID=America/Los_Angeles:20260304T110000
DTEND;TZID=America/Los_Angeles:20260304T120000
DTSTAMP:20260421T111322
CREATED:20251204T190625Z
LAST-MODIFIED:20251230T173543Z
UID:520054-1772622000-1772625600@calcivilrights.ca.gov
SUMMARY:CRD Webinar - Housing Rights of People with Disabilities - March 4\, 2026
DESCRIPTION:Register \nAre you a tenant with a disability and want to learn more about your rights? Are you a housing provider and want to understand your responsibilities when it comes to tenants with disabilities? This webinar will cover discrimination protections for people with disabilities including reasonable accommodations and modifications. This webinar is intended for all audiences and addresses housing discrimination laws enforced by the California Civil Rights Department.
URL:https://calcivilrights.ca.gov/event/housing-rights-of-people-with-disabilities-march-4-2026/
LOCATION:CA
CATEGORIES:CRD Webinar Series,Housing Training,Webinar
END:VEVENT
BEGIN:VEVENT
DTSTART;TZID=America/Los_Angeles:20260302T150000
DTEND;TZID=America/Los_Angeles:20260302T180000
DTSTAMP:20260421T111322
CREATED:20260219T221415Z
LAST-MODIFIED:20260219T221415Z
UID:520816-1772463600-1772474400@calcivilrights.ca.gov
SUMMARY:Pacific Grove Certified Farmers Market - March 2\, 2026
DESCRIPTION:Website \nPacific Grove Farmers’ Market \nA farmer’s market in Pacific Grove on Monday nights that has a wide range of vendors and community information and resources. CRD will be tabling at the market and sharing our resources.
URL:https://calcivilrights.ca.gov/event/pacific-grove-certified-farmers-market-march-2-2026/
LOCATION:Pacific Grove Farmers’ Market\, Central Avenue & Grand Avenue\, Pacific Grove\, CA\, 93950\, United States
CATEGORIES:Community Event,Community Service
END:VEVENT
BEGIN:VEVENT
DTSTART;TZID=America/Los_Angeles:20260222T090000
DTEND;TZID=America/Los_Angeles:20260222T150000
DTSTAMP:20260421T111322
CREATED:20260219T220953Z
LAST-MODIFIED:20260219T220953Z
UID:520811-1771750800-1771772400@calcivilrights.ca.gov
SUMMARY:Swap Meet for Justice - February 22\, 2026
DESCRIPTION:Website \nOne Sunday a month\, at the Oxnard College community marketplace\, we draw together attorneys\, mental and physical health providers\, community organizers\, nonprofits\, and county agencies to do their work on site and at no cost. We provide direct services\, referrals\, and essential information that would be hard to access during the M-F work week.
URL:https://calcivilrights.ca.gov/event/swap-meet-for-justice-february-22-2026/
LOCATION:Oxnard College\, 4000 S Rose Avenue\, Oxnard\, CA\, 93033\, United States
CATEGORIES:Community Event,Community Service
END:VEVENT
BEGIN:VEVENT
DTSTART;TZID=America/Los_Angeles:20260220T163000
DTEND;TZID=America/Los_Angeles:20260220T183000
DTSTAMP:20260421T111322
CREATED:20260219T220816Z
LAST-MODIFIED:20260219T220816Z
UID:520808-1771605000-1771612200@calcivilrights.ca.gov
SUMMARY:Central Valley Empowerment RSE Clinic - February 20\, 2026
DESCRIPTION:Website \nCVEA will host an RSE Workforce Clinic to connect farmworker and labor communities in Tulare County with essential workforce services and resources. The event will include 10-minute presentations from Cal/OSHA\, DWC\, LCO\, ALRB\, EDD\, CRD\, and the ISFF Immigration Team\, along with resource tabling from all participating agencies. City Council Member Greg Gomez is invited to attend as a community guest. The clinic aims to increase awareness of worker rights\, protections\, and available services through direct agency engagement.
URL:https://calcivilrights.ca.gov/event/central-valley-empowerment-rse-clinic-february-20-2026/
LOCATION:623 N Avery\, 623 N Avery\, Farmersville\, CA\, 93223\, United States
CATEGORIES:Community Event,Community Service
END:VEVENT
BEGIN:VEVENT
DTSTART;TZID=America/Los_Angeles:20260220T090000
DTEND;TZID=America/Los_Angeles:20260220T130000
DTSTAMP:20260421T111322
CREATED:20260219T212039Z
LAST-MODIFIED:20260219T212039Z
UID:520805-1771578000-1771592400@calcivilrights.ca.gov
SUMMARY:Fresno's Roving Mexican Consulate - February 20\, 2026
DESCRIPTION:Website \nThe CRD is partnering with Fresno’s Mexican Consulate to provide the public with resources on civil rights in housing\, employment\, and public spaces.
URL:https://calcivilrights.ca.gov/event/fresnos-roving-mexican-consulate-february-20-2026/
LOCATION:7435 N Ingram Avenue\, 7435 N Ingram Avenue\, Fresno\, 93711\, United States
CATEGORIES:Community Service
END:VEVENT
BEGIN:VEVENT
DTSTART;TZID=America/Los_Angeles:20260218T110000
DTEND;TZID=America/Los_Angeles:20260218T120000
DTSTAMP:20260421T111322
CREATED:20251204T190440Z
LAST-MODIFIED:20251230T173558Z
UID:520052-1771412400-1771416000@calcivilrights.ca.gov
SUMMARY:CRD Webinar - Employment Rights of People with Disabilities - February 18\, 2026
DESCRIPTION:Register \nAre you an employee who needs an accommodation because of a disability? Are you an employer who wants to learn about appropriate interview and record keeping techniques for applicants with disabilities? Learn how California defines disability and reasonable accommodations\, prohibited interview questions\, how and when to disclose a disability at work\, and best practices for responding to employee requests. This webinar is intended for applicants and employees with disabilities and employers\, ADA coordinators\, and Human Resources professionals. This webinar addresses basic information about reasonable accommodation and employment discrimination laws enforced by the California Civil Rights Department. An advanced reasonable accommodation webinar will be available in late 2026.
URL:https://calcivilrights.ca.gov/event/employment-rights-of-people-with-disabilities-february-18-2026/
LOCATION:CA
CATEGORIES:CRD Webinar Series,Employment Training,Webinar
END:VEVENT
BEGIN:VEVENT
DTSTART;TZID=America/Los_Angeles:20260213T080000
DTEND;TZID=America/Los_Angeles:20260213T170000
DTSTAMP:20260421T111322
CREATED:20251231T005546Z
LAST-MODIFIED:20251231T005546Z
UID:520248-1770969600-1771002000@calcivilrights.ca.gov
SUMMARY:Cafecito con la Comunidad - February 13\, 2026
DESCRIPTION:Website \nPresentations\, live discussion\, and indoor resource fair. This event is hosted by One Safe Place\, Mano a Mano Foundation\, and the Mexican Consulate. CRD will give a short presentation and table the event.
URL:https://calcivilrights.ca.gov/event/cafecito-con-la-comunidad-february-13-2026/
LOCATION:CA
CATEGORIES:Community Event,Community Service
END:VEVENT
BEGIN:VEVENT
DTSTART;TZID=America/Los_Angeles:20260212T150000
DTEND;TZID=America/Los_Angeles:20260212T180000
DTSTAMP:20260421T111322
CREATED:20260202T202920Z
LAST-MODIFIED:20260202T202920Z
UID:520693-1770908400-1770919200@calcivilrights.ca.gov
SUMMARY:Seaside Certified Farmers' Market - February 12\, 2026
DESCRIPTION:Website \nA farmer’s market in Seaside on Thursday nights that has a wide range of vendors and community information and resources. CRD will be tabling at the market and sharing our resources.
URL:https://calcivilrights.ca.gov/event/seaside-certified-farmers-market-february-12-2026/
LOCATION:1259 Canyon Del Rey Blvd.\, 1259 Canyon Del Rey Blvd.\, Seaside\, CA\, 93955\, United States
CATEGORIES:Community Event,Community Service
END:VEVENT
BEGIN:VEVENT
DTSTART;TZID=America/Los_Angeles:20260211T110000
DTEND;TZID=America/Los_Angeles:20260211T120000
DTSTAMP:20260421T111322
CREATED:20251204T184619Z
LAST-MODIFIED:20251230T173631Z
UID:520049-1770807600-1770811200@calcivilrights.ca.gov
SUMMARY:CRD Webinar - Pay Data Reporting for Large Employers - February 11\, 2026
DESCRIPTION:Register \nAre you an employer with 100 or more employees? Are you aware of your pay data reporting requirements under California Government Code 12999?  Learn about large employers’ responsibility to report their workforce payroll data to the Civil Rights Department every year\, best practices for compliance\, and resources to ensure a discrimination-free workplace. This webinar is intended for employers with 100 or more employees and provides a basic overview of non-discrimination laws and payroll reporting requirements enforced by the California Civil Rights Department.
URL:https://calcivilrights.ca.gov/event/pay-data-reporting-for-large-employers-february-11-2026/
LOCATION:CA
CATEGORIES:CRD Webinar Series,Employment Training,Webinar
END:VEVENT
BEGIN:VEVENT
DTSTART;TZID=America/Los_Angeles:20260210T083000
DTEND;TZID=America/Los_Angeles:20260211T143000
DTSTAMP:20260421T111322
CREATED:20260202T204535Z
LAST-MODIFIED:20260202T204535Z
UID:520696-1770712200-1770820200@calcivilrights.ca.gov
SUMMARY:Fresno's Roving Mexican Consulate – Mendota - February 10 - 11\, 2026
DESCRIPTION:Website \nCRD is partnering with Fresno’s Roving Mexican Consulate to provide the public with resources on civil rights in housing\, employment\, and public spaces. This roving Mexican Consulate will be in Mendota\, CA.
URL:https://calcivilrights.ca.gov/event/fresnos-roving-mexican-consulate-mendota-february-10-11-2026/
LOCATION:115 Belmont Avenue\, 115 Belmont Avenue\, Mendota\, CA\, 93640\, United States
CATEGORIES:Community Service
END:VEVENT
BEGIN:VEVENT
DTSTART;TZID=America/Los_Angeles:20260208T150000
DTEND;TZID=America/Los_Angeles:20260208T200000
DTSTAMP:20260421T111322
CREATED:20251231T005410Z
LAST-MODIFIED:20251231T005410Z
UID:520245-1770562800-1770580800@calcivilrights.ca.gov
SUMMARY:Convoy Rising: Lunar New Year Celebration - February 8\, 2026
DESCRIPTION:Website \nLunar New Year cultural festival and celebration. In addition to the vendors\, there will be cultural performances and other cultural showcases. This event is sponsored by The Doan Foundation\, Social Artistry\, and Up2You Café. CRD will be tabling and sharing out resources from the department.
URL:https://calcivilrights.ca.gov/event/convoy-rising-lunar-new-year-celebration-february-8-2026/
LOCATION:Vickers Street & Convoy Street\, Vickers Street & Convoy Street\, San Diego\, CA\, 92111\, United States
CATEGORIES:Community Event
END:VEVENT
BEGIN:VEVENT
DTSTART;TZID=America/Los_Angeles:20260207T110000
DTEND;TZID=America/Los_Angeles:20260207T150000
DTSTAMP:20260421T111322
CREATED:20260202T195704Z
LAST-MODIFIED:20260202T195704Z
UID:520689-1770462000-1770476400@calcivilrights.ca.gov
SUMMARY:47th Annual San Bernardino Black History Month Festival - February 7\, 2026
DESCRIPTION:Website \nThe 47th Annual Black History Month Festival and Parade in San Bernardino\, CA. The event will feature a parade\, performances\, food\, music\, and resource tables. The event is free for all! CRD will be tabling and sharing out our civil rights guides and resources\, as well as information about CA vs. Hate.
URL:https://calcivilrights.ca.gov/event/47th-annual-san-bernardino-black-history-month-festival-february-7-2026/
LOCATION:Arroyo Valley High School\, 1881 W Base Line Street\, San Bernardino\, CA\, 92411\, United States
CATEGORIES:Community Event
END:VEVENT
BEGIN:VEVENT
DTSTART;TZID=America/Los_Angeles:20260206T173000
DTEND;TZID=America/Los_Angeles:20260206T200000
DTSTAMP:20260421T111322
CREATED:20260127T204637Z
LAST-MODIFIED:20260127T204637Z
UID:520583-1770399000-1770408000@calcivilrights.ca.gov
SUMMARY:Carlsbad Hosted Happy Hour Networking Mixer - February 6\, 2026
DESCRIPTION:Website \nAn event hosted by Happy Hour Builders & Backers mixers. This event is open to everyone in all industries. Come meet people creating companies\, products\, tools\, and side projects – or are the people who help them go further — investors\, advisors\, partners\, collaborators\, and champions of new ideas. Partners are spotlighted before\, during\, and after the event through email\, social\, and onsite visibility. CRD will be present and sharing information about Welcome In\, department resources and more!
URL:https://calcivilrights.ca.gov/event/carlsbad-hosted-happy-hour-networking-mixer-february-6-2026/
LOCATION:Bermuda Club\, 5840 El Camino Real\, Carlsbad\, CA\, 92008\, United States
CATEGORIES:Community Event,Community Service
END:VEVENT
END:VCALENDAR